BEGIN:VCALENDAR
VERSION:2.0
PRODID:-//Verloskundig en Vrouwencentrum Maeva - ECPv6.15.20//NONSGML v1.0//EN
CALSCALE:GREGORIAN
METHOD:PUBLISH
X-ORIGINAL-URL:https://verloskundigen-maeva.nl
X-WR-CALDESC:Evenementen voor Verloskundig en Vrouwencentrum Maeva
REFRESH-INTERVAL;VALUE=DURATION:PT1H
X-Robots-Tag:noindex
X-PUBLISHED-TTL:PT1H
BEGIN:VTIMEZONE
TZID:Europe/Amsterdam
BEGIN:DAYLIGHT
TZOFFSETFROM:+0100
TZOFFSETTO:+0200
TZNAME:CEST
DTSTART:20240331T010000
END:DAYLIGHT
BEGIN:STANDARD
TZOFFSETFROM:+0200
TZOFFSETTO:+0100
TZNAME:CET
DTSTART:20241027T010000
END:STANDARD
BEGIN:DAYLIGHT
TZOFFSETFROM:+0100
TZOFFSETTO:+0200
TZNAME:CEST
DTSTART:20250330T010000
END:DAYLIGHT
BEGIN:STANDARD
TZOFFSETFROM:+0200
TZOFFSETTO:+0100
TZNAME:CET
DTSTART:20251026T010000
END:STANDARD
BEGIN:DAYLIGHT
TZOFFSETFROM:+0100
TZOFFSETTO:+0200
TZNAME:CEST
DTSTART:20260329T010000
END:DAYLIGHT
BEGIN:STANDARD
TZOFFSETFROM:+0200
TZOFFSETTO:+0100
TZNAME:CET
DTSTART:20261025T010000
END:STANDARD
END:VTIMEZONE
BEGIN:VEVENT
DTSTART;TZID=Europe/Amsterdam:20250506T190000
DTEND;TZID=Europe/Amsterdam:20250506T193000
DTSTAMP:20260422T221147
CREATED:20250408T084326Z
LAST-MODIFIED:20250408T084326Z
UID:10000583-1746558000-1746559800@verloskundigen-maeva.nl
SUMMARY:Inloopspreekuur Renswoude
DESCRIPTION:Wil je een keer extra langs komen om het hartje van je kindje te luisteren? Heb je een korte vraag? Kom gerust langs tijdens het inloopspreekuur in Renswoude. \nJe bent van harte welkom tussen 19:00 – 19:30 uur in de oneven weken in Renswoude.
URL:https://verloskundigen-maeva.nl/evenement/inloopspreekuur-renswoude-2/2025-05-06/
LOCATION:GZC de Taets\, Vendelier 16\, Renswoude\, 3927WD\, Netherlands
CATEGORIES:Inloopspreekuren
END:VEVENT
BEGIN:VEVENT
DTSTART;TZID=Europe/Amsterdam:20250507T090000
DTEND;TZID=Europe/Amsterdam:20250507T100000
DTSTAMP:20260422T221147
CREATED:20231221T102213Z
LAST-MODIFIED:20231221T102837Z
UID:10000709-1746608400-1746612000@verloskundigen-maeva.nl
SUMMARY:Inloopspreekuur Scherpenzeel
DESCRIPTION:Wil je een keer extra langs komen om het hartje van je kindje te luisteren? Heb je een korte vraag? Kom gerust langs tijdens ons inloopspreekuur! Je bent van harte welkom tussen 9:00 – 10:00 uur.
URL:https://verloskundigen-maeva.nl/evenement/inloopspreekuur-scherpenzeel/2025-05-07/
CATEGORIES:Evenementen,Inloopspreekuren
END:VEVENT
BEGIN:VEVENT
DTSTART;TZID=Europe/Amsterdam:20250514T090000
DTEND;TZID=Europe/Amsterdam:20250514T100000
DTSTAMP:20260422T221147
CREATED:20231221T102213Z
LAST-MODIFIED:20231221T102837Z
UID:10000710-1747213200-1747216800@verloskundigen-maeva.nl
SUMMARY:Inloopspreekuur Scherpenzeel
DESCRIPTION:Wil je een keer extra langs komen om het hartje van je kindje te luisteren? Heb je een korte vraag? Kom gerust langs tijdens ons inloopspreekuur! Je bent van harte welkom tussen 9:00 – 10:00 uur.
URL:https://verloskundigen-maeva.nl/evenement/inloopspreekuur-scherpenzeel/2025-05-14/
CATEGORIES:Evenementen,Inloopspreekuren
END:VEVENT
BEGIN:VEVENT
DTSTART;TZID=Europe/Amsterdam:20250520T190000
DTEND;TZID=Europe/Amsterdam:20250520T193000
DTSTAMP:20260422T221147
CREATED:20250408T084326Z
LAST-MODIFIED:20250408T084326Z
UID:10000584-1747767600-1747769400@verloskundigen-maeva.nl
SUMMARY:Inloopspreekuur Renswoude
DESCRIPTION:Wil je een keer extra langs komen om het hartje van je kindje te luisteren? Heb je een korte vraag? Kom gerust langs tijdens het inloopspreekuur in Renswoude. \nJe bent van harte welkom tussen 19:00 – 19:30 uur in de oneven weken in Renswoude.
URL:https://verloskundigen-maeva.nl/evenement/inloopspreekuur-renswoude-2/2025-05-20/
LOCATION:GZC de Taets\, Vendelier 16\, Renswoude\, 3927WD\, Netherlands
CATEGORIES:Inloopspreekuren
END:VEVENT
BEGIN:VEVENT
DTSTART;TZID=Europe/Amsterdam:20250521T090000
DTEND;TZID=Europe/Amsterdam:20250521T100000
DTSTAMP:20260422T221147
CREATED:20231221T102213Z
LAST-MODIFIED:20231221T102837Z
UID:10000711-1747818000-1747821600@verloskundigen-maeva.nl
SUMMARY:Inloopspreekuur Scherpenzeel
DESCRIPTION:Wil je een keer extra langs komen om het hartje van je kindje te luisteren? Heb je een korte vraag? Kom gerust langs tijdens ons inloopspreekuur! Je bent van harte welkom tussen 9:00 – 10:00 uur.
URL:https://verloskundigen-maeva.nl/evenement/inloopspreekuur-scherpenzeel/2025-05-21/
CATEGORIES:Evenementen,Inloopspreekuren
END:VEVENT
BEGIN:VEVENT
DTSTART;TZID=Europe/Amsterdam:20250528T090000
DTEND;TZID=Europe/Amsterdam:20250528T100000
DTSTAMP:20260422T221147
CREATED:20231221T102213Z
LAST-MODIFIED:20231221T102837Z
UID:10000712-1748422800-1748426400@verloskundigen-maeva.nl
SUMMARY:Inloopspreekuur Scherpenzeel
DESCRIPTION:Wil je een keer extra langs komen om het hartje van je kindje te luisteren? Heb je een korte vraag? Kom gerust langs tijdens ons inloopspreekuur! Je bent van harte welkom tussen 9:00 – 10:00 uur.
URL:https://verloskundigen-maeva.nl/evenement/inloopspreekuur-scherpenzeel/2025-05-28/
CATEGORIES:Evenementen,Inloopspreekuren
END:VEVENT
END:VCALENDAR