BEGIN:VCALENDAR
VERSION:2.0
PRODID:-//Verloskundig en Vrouwencentrum Maeva - ECPv6.15.20//NONSGML v1.0//EN
CALSCALE:GREGORIAN
METHOD:PUBLISH
X-WR-CALNAME:Verloskundig en Vrouwencentrum Maeva
X-ORIGINAL-URL:https://verloskundigen-maeva.nl
X-WR-CALDESC:Evenementen voor Verloskundig en Vrouwencentrum Maeva
REFRESH-INTERVAL;VALUE=DURATION:PT1H
X-Robots-Tag:noindex
X-PUBLISHED-TTL:PT1H
BEGIN:VTIMEZONE
TZID:Europe/Amsterdam
BEGIN:DAYLIGHT
TZOFFSETFROM:+0100
TZOFFSETTO:+0200
TZNAME:CEST
DTSTART:20240331T010000
END:DAYLIGHT
BEGIN:STANDARD
TZOFFSETFROM:+0200
TZOFFSETTO:+0100
TZNAME:CET
DTSTART:20241027T010000
END:STANDARD
BEGIN:DAYLIGHT
TZOFFSETFROM:+0100
TZOFFSETTO:+0200
TZNAME:CEST
DTSTART:20250330T010000
END:DAYLIGHT
BEGIN:STANDARD
TZOFFSETFROM:+0200
TZOFFSETTO:+0100
TZNAME:CET
DTSTART:20251026T010000
END:STANDARD
BEGIN:DAYLIGHT
TZOFFSETFROM:+0100
TZOFFSETTO:+0200
TZNAME:CEST
DTSTART:20260329T010000
END:DAYLIGHT
BEGIN:STANDARD
TZOFFSETFROM:+0200
TZOFFSETTO:+0100
TZNAME:CET
DTSTART:20261025T010000
END:STANDARD
END:VTIMEZONE
BEGIN:VEVENT
DTSTART;TZID=Europe/Amsterdam:20250806T090000
DTEND;TZID=Europe/Amsterdam:20250806T100000
DTSTAMP:20260422T162035
CREATED:20231221T102213Z
LAST-MODIFIED:20231221T102837Z
UID:10000717-1754470800-1754474400@verloskundigen-maeva.nl
SUMMARY:Inloopspreekuur Scherpenzeel
DESCRIPTION:Wil je een keer extra langs komen om het hartje van je kindje te luisteren? Heb je een korte vraag? Kom gerust langs tijdens ons inloopspreekuur! Je bent van harte welkom tussen 9:00 – 10:00 uur.
URL:https://verloskundigen-maeva.nl/evenement/inloopspreekuur-scherpenzeel/2025-08-06/
CATEGORIES:Evenementen,Inloopspreekuren
END:VEVENT
BEGIN:VEVENT
DTSTART;TZID=Europe/Amsterdam:20250812T190000
DTEND;TZID=Europe/Amsterdam:20250812T193000
DTSTAMP:20260422T162035
CREATED:20250408T084326Z
LAST-MODIFIED:20250408T084326Z
UID:10000590-1755025200-1755027000@verloskundigen-maeva.nl
SUMMARY:Inloopspreekuur Renswoude
DESCRIPTION:Wil je een keer extra langs komen om het hartje van je kindje te luisteren? Heb je een korte vraag? Kom gerust langs tijdens het inloopspreekuur in Renswoude. \nJe bent van harte welkom tussen 19:00 – 19:30 uur in de oneven weken in Renswoude.
URL:https://verloskundigen-maeva.nl/evenement/inloopspreekuur-renswoude-2/2025-08-12/
LOCATION:GZC de Taets\, Vendelier 16\, Renswoude\, 3927WD\, Netherlands
CATEGORIES:Inloopspreekuren
END:VEVENT
BEGIN:VEVENT
DTSTART;TZID=Europe/Amsterdam:20250813T090000
DTEND;TZID=Europe/Amsterdam:20250813T100000
DTSTAMP:20260422T162035
CREATED:20231221T102213Z
LAST-MODIFIED:20231221T102837Z
UID:10000718-1755075600-1755079200@verloskundigen-maeva.nl
SUMMARY:Inloopspreekuur Scherpenzeel
DESCRIPTION:Wil je een keer extra langs komen om het hartje van je kindje te luisteren? Heb je een korte vraag? Kom gerust langs tijdens ons inloopspreekuur! Je bent van harte welkom tussen 9:00 – 10:00 uur.
URL:https://verloskundigen-maeva.nl/evenement/inloopspreekuur-scherpenzeel/2025-08-13/
CATEGORIES:Evenementen,Inloopspreekuren
END:VEVENT
BEGIN:VEVENT
DTSTART;TZID=Europe/Amsterdam:20250820T090000
DTEND;TZID=Europe/Amsterdam:20250820T100000
DTSTAMP:20260422T162035
CREATED:20231221T102213Z
LAST-MODIFIED:20231221T102837Z
UID:10000719-1755680400-1755684000@verloskundigen-maeva.nl
SUMMARY:Inloopspreekuur Scherpenzeel
DESCRIPTION:Wil je een keer extra langs komen om het hartje van je kindje te luisteren? Heb je een korte vraag? Kom gerust langs tijdens ons inloopspreekuur! Je bent van harte welkom tussen 9:00 – 10:00 uur.
URL:https://verloskundigen-maeva.nl/evenement/inloopspreekuur-scherpenzeel/2025-08-20/
CATEGORIES:Evenementen,Inloopspreekuren
END:VEVENT
BEGIN:VEVENT
DTSTART;TZID=Europe/Amsterdam:20250826T190000
DTEND;TZID=Europe/Amsterdam:20250826T193000
DTSTAMP:20260422T162035
CREATED:20250408T084326Z
LAST-MODIFIED:20250408T084326Z
UID:10000591-1756234800-1756236600@verloskundigen-maeva.nl
SUMMARY:Inloopspreekuur Renswoude
DESCRIPTION:Wil je een keer extra langs komen om het hartje van je kindje te luisteren? Heb je een korte vraag? Kom gerust langs tijdens het inloopspreekuur in Renswoude. \nJe bent van harte welkom tussen 19:00 – 19:30 uur in de oneven weken in Renswoude.
URL:https://verloskundigen-maeva.nl/evenement/inloopspreekuur-renswoude-2/2025-08-26/
LOCATION:GZC de Taets\, Vendelier 16\, Renswoude\, 3927WD\, Netherlands
CATEGORIES:Inloopspreekuren
END:VEVENT
BEGIN:VEVENT
DTSTART;TZID=Europe/Amsterdam:20250827T090000
DTEND;TZID=Europe/Amsterdam:20250827T100000
DTSTAMP:20260422T162035
CREATED:20231221T102213Z
LAST-MODIFIED:20231221T102837Z
UID:10000720-1756285200-1756288800@verloskundigen-maeva.nl
SUMMARY:Inloopspreekuur Scherpenzeel
DESCRIPTION:Wil je een keer extra langs komen om het hartje van je kindje te luisteren? Heb je een korte vraag? Kom gerust langs tijdens ons inloopspreekuur! Je bent van harte welkom tussen 9:00 – 10:00 uur.
URL:https://verloskundigen-maeva.nl/evenement/inloopspreekuur-scherpenzeel/2025-08-27/
CATEGORIES:Evenementen,Inloopspreekuren
END:VEVENT
END:VCALENDAR