BEGIN:VCALENDAR
VERSION:2.0
PRODID:-//Verloskundig en Vrouwencentrum Maeva - ECPv6.15.20//NONSGML v1.0//EN
CALSCALE:GREGORIAN
METHOD:PUBLISH
X-WR-CALNAME:Verloskundig en Vrouwencentrum Maeva
X-ORIGINAL-URL:https://verloskundigen-maeva.nl
X-WR-CALDESC:Evenementen voor Verloskundig en Vrouwencentrum Maeva
REFRESH-INTERVAL;VALUE=DURATION:PT1H
X-Robots-Tag:noindex
X-PUBLISHED-TTL:PT1H
BEGIN:VTIMEZONE
TZID:Europe/Amsterdam
BEGIN:DAYLIGHT
TZOFFSETFROM:+0100
TZOFFSETTO:+0200
TZNAME:CEST
DTSTART:20210328T010000
END:DAYLIGHT
BEGIN:STANDARD
TZOFFSETFROM:+0200
TZOFFSETTO:+0100
TZNAME:CET
DTSTART:20211031T010000
END:STANDARD
BEGIN:DAYLIGHT
TZOFFSETFROM:+0100
TZOFFSETTO:+0200
TZNAME:CEST
DTSTART:20220327T010000
END:DAYLIGHT
BEGIN:STANDARD
TZOFFSETFROM:+0200
TZOFFSETTO:+0100
TZNAME:CET
DTSTART:20221030T010000
END:STANDARD
BEGIN:DAYLIGHT
TZOFFSETFROM:+0100
TZOFFSETTO:+0200
TZNAME:CEST
DTSTART:20230326T010000
END:DAYLIGHT
BEGIN:STANDARD
TZOFFSETFROM:+0200
TZOFFSETTO:+0100
TZNAME:CET
DTSTART:20231029T010000
END:STANDARD
END:VTIMEZONE
BEGIN:VEVENT
DTSTART;TZID=Europe/Amsterdam:20221117T080000
DTEND;TZID=Europe/Amsterdam:20221117T170000
DTSTAMP:20260425T040203
CREATED:20221117T075424Z
LAST-MODIFIED:20221117T075424Z
UID:10000552-1668672000-1668704400@verloskundigen-maeva.nl
SUMMARY:Welkom bij Maeva
DESCRIPTION:Van harte welkom bij de nieuwe website van Verloskundig- en vrouwencentrum Maeva. Kijk lekker rond op de website en heb je vragen of opmerkingen bel of mail ons gerust. Vanaf maandag 2 januari gaan we van start. Wil je alvast een afspraak maken dan kan je een mail sturen naar info@verloskundige-maeva.nl
URL:https://verloskundigen-maeva.nl/evenement/welkom-bij-maeva/
ATTACH;FMTTYPE=image/jpeg:https://verloskundigen-maeva.nl/wp-content/uploads/2022/11/MBF_A84A3719b-scaled.jpg
END:VEVENT
END:VCALENDAR