BEGIN:VCALENDAR
VERSION:2.0
PRODID:-//Verloskundig en Vrouwencentrum Maeva - ECPv6.15.20//NONSGML v1.0//EN
CALSCALE:GREGORIAN
METHOD:PUBLISH
X-WR-CALNAME:Verloskundig en Vrouwencentrum Maeva
X-ORIGINAL-URL:https://verloskundigen-maeva.nl
X-WR-CALDESC:Evenementen voor Verloskundig en Vrouwencentrum Maeva
REFRESH-INTERVAL;VALUE=DURATION:PT1H
X-Robots-Tag:noindex
X-PUBLISHED-TTL:PT1H
BEGIN:VTIMEZONE
TZID:Europe/Amsterdam
BEGIN:DAYLIGHT
TZOFFSETFROM:+0100
TZOFFSETTO:+0200
TZNAME:CEST
DTSTART:20220327T010000
END:DAYLIGHT
BEGIN:STANDARD
TZOFFSETFROM:+0200
TZOFFSETTO:+0100
TZNAME:CET
DTSTART:20221030T010000
END:STANDARD
BEGIN:DAYLIGHT
TZOFFSETFROM:+0100
TZOFFSETTO:+0200
TZNAME:CEST
DTSTART:20230326T010000
END:DAYLIGHT
BEGIN:STANDARD
TZOFFSETFROM:+0200
TZOFFSETTO:+0100
TZNAME:CET
DTSTART:20231029T010000
END:STANDARD
BEGIN:DAYLIGHT
TZOFFSETFROM:+0100
TZOFFSETTO:+0200
TZNAME:CEST
DTSTART:20240331T010000
END:DAYLIGHT
BEGIN:STANDARD
TZOFFSETFROM:+0200
TZOFFSETTO:+0100
TZNAME:CET
DTSTART:20241027T010000
END:STANDARD
END:VTIMEZONE
BEGIN:VEVENT
DTSTART;TZID=Europe/Amsterdam:20230510T193000
DTEND;TZID=Europe/Amsterdam:20230510T210000
DTSTAMP:20260424T180428
CREATED:20230313T132101Z
LAST-MODIFIED:20230313T132101Z
UID:10000570-1683747000-1683752400@verloskundigen-maeva.nl
SUMMARY:2e bijeenkomst groep Blauw
DESCRIPTION:2e bijeenkomst informatieavonden groep Blauw
URL:https://verloskundigen-maeva.nl/evenement/2e-bijeenkomst-groep-blauw/
END:VEVENT
BEGIN:VEVENT
DTSTART;TZID=Europe/Amsterdam:20230518T080000
DTEND;TZID=Europe/Amsterdam:20230518T170000
DTSTAMP:20260424T180428
CREATED:20230228T101218Z
LAST-MODIFIED:20230228T101218Z
UID:10000562-1684396800-1684429200@verloskundigen-maeva.nl
SUMMARY:Hemelvaartsdag\, praktijk gesloten
DESCRIPTION:Vandaag is vanwege Hemelvaartsdag de praktijk gesloten en is de assistente niet bereikbaar. \nUiteraard kan je voor je bevalling\, spoed en ongerustheid de dienstdoende verloskundige bellen.
URL:https://verloskundigen-maeva.nl/evenement/hemelvaartsdag-praktijk-gesloten/
END:VEVENT
BEGIN:VEVENT
DTSTART;TZID=Europe/Amsterdam:20230524T193000
DTEND;TZID=Europe/Amsterdam:20230524T210000
DTSTAMP:20260424T180428
CREATED:20230417T114415Z
LAST-MODIFIED:20230417T114415Z
UID:10000573-1684956600-1684962000@verloskundigen-maeva.nl
SUMMARY:1e bijeenkomst groep Roze
DESCRIPTION:1e bijeenkomst informatieavonden groep Roze
URL:https://verloskundigen-maeva.nl/evenement/1e-bijeenkomst-groep-roze/
END:VEVENT
BEGIN:VEVENT
DTSTART;TZID=Europe/Amsterdam:20230529T080000
DTEND;TZID=Europe/Amsterdam:20230529T170000
DTSTAMP:20260424T180428
CREATED:20230228T101610Z
LAST-MODIFIED:20230228T101610Z
UID:10000563-1685347200-1685379600@verloskundigen-maeva.nl
SUMMARY:2e Pinksterdag\, praktijk gesloten
DESCRIPTION:Vandaag is vanwege 2e Pinksterdag de praktijk gesloten en is de assistente niet bereikbaar. \nUiteraard kan je voor je bevalling\, spoed en ongerustheid de dienstdoende verloskundige bellen.
URL:https://verloskundigen-maeva.nl/evenement/2e-pinksterdag-praktijk-gesloten/
END:VEVENT
BEGIN:VEVENT
DTSTART;TZID=Europe/Amsterdam:20230530T193000
DTEND;TZID=Europe/Amsterdam:20230530T213000
DTSTAMP:20260424T180428
CREATED:20230228T100211Z
LAST-MODIFIED:20230228T100211Z
UID:10000558-1685475000-1685482200@verloskundigen-maeva.nl
SUMMARY:Online Cursus "Een goed begin met borstvoeding"
DESCRIPTION:Deze cursus van Borstvoeding Midden Nederland wordt online gegeven van 19:30 – 21:30 uur. \nVoor meer informatie verwijzen we je naar Borstvoeding Midden Nederland. \nCheck ook je zorgverzekering\, sommige verzekeraars vergoeden een borstvoedingscursus.
URL:https://verloskundigen-maeva.nl/evenement/online-cursus-een-goed-begin-met-borstvoeding-3/
END:VEVENT
END:VCALENDAR