BEGIN:VCALENDAR
VERSION:2.0
PRODID:-//Verloskundig en Vrouwencentrum Maeva - ECPv6.15.20//NONSGML v1.0//EN
CALSCALE:GREGORIAN
METHOD:PUBLISH
X-WR-CALNAME:Verloskundig en Vrouwencentrum Maeva
X-ORIGINAL-URL:https://verloskundigen-maeva.nl
X-WR-CALDESC:Evenementen voor Verloskundig en Vrouwencentrum Maeva
REFRESH-INTERVAL;VALUE=DURATION:PT1H
X-Robots-Tag:noindex
X-PUBLISHED-TTL:PT1H
BEGIN:VTIMEZONE
TZID:Europe/Amsterdam
BEGIN:DAYLIGHT
TZOFFSETFROM:+0100
TZOFFSETTO:+0200
TZNAME:CEST
DTSTART:20220327T010000
END:DAYLIGHT
BEGIN:STANDARD
TZOFFSETFROM:+0200
TZOFFSETTO:+0100
TZNAME:CET
DTSTART:20221030T010000
END:STANDARD
BEGIN:DAYLIGHT
TZOFFSETFROM:+0100
TZOFFSETTO:+0200
TZNAME:CEST
DTSTART:20230326T010000
END:DAYLIGHT
BEGIN:STANDARD
TZOFFSETFROM:+0200
TZOFFSETTO:+0100
TZNAME:CET
DTSTART:20231029T010000
END:STANDARD
BEGIN:DAYLIGHT
TZOFFSETFROM:+0100
TZOFFSETTO:+0200
TZNAME:CEST
DTSTART:20240331T010000
END:DAYLIGHT
BEGIN:STANDARD
TZOFFSETFROM:+0200
TZOFFSETTO:+0100
TZNAME:CET
DTSTART:20241027T010000
END:STANDARD
END:VTIMEZONE
BEGIN:VEVENT
DTSTART;TZID=Europe/Amsterdam:20230613T190000
DTEND;TZID=Europe/Amsterdam:20230613T210000
DTSTAMP:20260424T160116
CREATED:20230313T132231Z
LAST-MODIFIED:20230424T094028Z
UID:10000571-1686682800-1686690000@verloskundigen-maeva.nl
SUMMARY:3e bijeenkomst groep Blauw
DESCRIPTION:3e bijeenkomst informatieavonden groep Blauw \nOnderwerp bevalling\, met partner
URL:https://verloskundigen-maeva.nl/evenement/3e-bijeenkomst-groep-blauw/
END:VEVENT
BEGIN:VEVENT
DTSTART;TZID=Europe/Amsterdam:20230622T193000
DTEND;TZID=Europe/Amsterdam:20230622T210000
DTSTAMP:20260424T160116
CREATED:20230417T114529Z
LAST-MODIFIED:20230417T114529Z
UID:10000574-1687462200-1687467600@verloskundigen-maeva.nl
SUMMARY:2e bijeenkomst groep Roze
DESCRIPTION:2e bijeenkomst informatieavonden groep Roze
URL:https://verloskundigen-maeva.nl/evenement/2e-bijeenkomst-groep-roze/
END:VEVENT
END:VCALENDAR