BEGIN:VCALENDAR
VERSION:2.0
PRODID:-//Verloskundig en Vrouwencentrum Maeva - ECPv6.15.20//NONSGML v1.0//EN
CALSCALE:GREGORIAN
METHOD:PUBLISH
X-WR-CALNAME:Verloskundig en Vrouwencentrum Maeva
X-ORIGINAL-URL:https://verloskundigen-maeva.nl
X-WR-CALDESC:Evenementen voor Verloskundig en Vrouwencentrum Maeva
REFRESH-INTERVAL;VALUE=DURATION:PT1H
X-Robots-Tag:noindex
X-PUBLISHED-TTL:PT1H
BEGIN:VTIMEZONE
TZID:Europe/Amsterdam
BEGIN:DAYLIGHT
TZOFFSETFROM:+0100
TZOFFSETTO:+0200
TZNAME:CEST
DTSTART:20220327T010000
END:DAYLIGHT
BEGIN:STANDARD
TZOFFSETFROM:+0200
TZOFFSETTO:+0100
TZNAME:CET
DTSTART:20221030T010000
END:STANDARD
BEGIN:DAYLIGHT
TZOFFSETFROM:+0100
TZOFFSETTO:+0200
TZNAME:CEST
DTSTART:20230326T010000
END:DAYLIGHT
BEGIN:STANDARD
TZOFFSETFROM:+0200
TZOFFSETTO:+0100
TZNAME:CET
DTSTART:20231029T010000
END:STANDARD
BEGIN:DAYLIGHT
TZOFFSETFROM:+0100
TZOFFSETTO:+0200
TZNAME:CEST
DTSTART:20240331T010000
END:DAYLIGHT
BEGIN:STANDARD
TZOFFSETFROM:+0200
TZOFFSETTO:+0100
TZNAME:CET
DTSTART:20241027T010000
END:STANDARD
END:VTIMEZONE
BEGIN:VEVENT
DTSTART;TZID=Europe/Amsterdam:20230704T193000
DTEND;TZID=Europe/Amsterdam:20230704T210000
DTSTAMP:20260424T134715
CREATED:20230525T083924Z
LAST-MODIFIED:20230525T083924Z
UID:10000581-1688499000-1688504400@verloskundigen-maeva.nl
SUMMARY:Bijeenkomst 1 Groep Geel
DESCRIPTION:1e bijeenkomst serie informatieavonden Groep Geel
URL:https://verloskundigen-maeva.nl/evenement/bijeenkomst-1-groep-geel/
END:VEVENT
BEGIN:VEVENT
DTSTART;TZID=Europe/Amsterdam:20230704T193000
DTEND;TZID=Europe/Amsterdam:20230704T213000
DTSTAMP:20260424T134715
CREATED:20230228T100324Z
LAST-MODIFIED:20230228T100324Z
UID:10000559-1688499000-1688506200@verloskundigen-maeva.nl
SUMMARY:Online Cursus "Een goed begin met borstvoeding"
DESCRIPTION:Deze cursus van Borstvoeding Midden Nederland wordt online gegeven van 19:30 – 21:30 uur. \nVoor meer informatie verwijzen we je naar Borstvoeding Midden Nederland. \nCheck ook je zorgverzekering\, sommige verzekeraars vergoeden een borstvoedingscursus.
URL:https://verloskundigen-maeva.nl/evenement/online-cursus-een-goed-begin-met-borstvoeding-4/
END:VEVENT
BEGIN:VEVENT
DTSTART;TZID=Europe/Amsterdam:20230712T193000
DTEND;TZID=Europe/Amsterdam:20230712T210000
DTSTAMP:20260424T134715
CREATED:20230313T132343Z
LAST-MODIFIED:20230717T082810Z
UID:10000572-1689190200-1689195600@verloskundigen-maeva.nl
SUMMARY:4e bijeenkomst groep Blauw
DESCRIPTION:4e bijeenkomst informatieavonden groep Blauw \nOnderwerp Kraamtijd
URL:https://verloskundigen-maeva.nl/evenement/4e-bijeenkomst-groep-blauw/
CATEGORIES:Evenementen
END:VEVENT
BEGIN:VEVENT
DTSTART;TZID=Europe/Amsterdam:20230718T190000
DTEND;TZID=Europe/Amsterdam:20230718T210000
DTSTAMP:20260424T134715
CREATED:20230417T114736Z
LAST-MODIFIED:20230717T082845Z
UID:10000576-1689706800-1689714000@verloskundigen-maeva.nl
SUMMARY:3e bijeenkomst groep Roze
DESCRIPTION:3e bijeenkomst informatieavonden groep Roze. \nThema bevalling\, met partner
URL:https://verloskundigen-maeva.nl/evenement/3e-bijeenkomst-groep-roze/
CATEGORIES:Evenementen
END:VEVENT
END:VCALENDAR