BEGIN:VCALENDAR
VERSION:2.0
PRODID:-//Verloskundig en Vrouwencentrum Maeva - ECPv6.15.20//NONSGML v1.0//EN
CALSCALE:GREGORIAN
METHOD:PUBLISH
X-ORIGINAL-URL:https://verloskundigen-maeva.nl
X-WR-CALDESC:Evenementen voor Verloskundig en Vrouwencentrum Maeva
REFRESH-INTERVAL;VALUE=DURATION:PT1H
X-Robots-Tag:noindex
X-PUBLISHED-TTL:PT1H
BEGIN:VTIMEZONE
TZID:Europe/Amsterdam
BEGIN:DAYLIGHT
TZOFFSETFROM:+0100
TZOFFSETTO:+0200
TZNAME:CEST
DTSTART:20250330T010000
END:DAYLIGHT
BEGIN:STANDARD
TZOFFSETFROM:+0200
TZOFFSETTO:+0100
TZNAME:CET
DTSTART:20251026T010000
END:STANDARD
BEGIN:DAYLIGHT
TZOFFSETFROM:+0100
TZOFFSETTO:+0200
TZNAME:CEST
DTSTART:20260329T010000
END:DAYLIGHT
BEGIN:STANDARD
TZOFFSETFROM:+0200
TZOFFSETTO:+0100
TZNAME:CET
DTSTART:20261025T010000
END:STANDARD
BEGIN:DAYLIGHT
TZOFFSETFROM:+0100
TZOFFSETTO:+0200
TZNAME:CEST
DTSTART:20270328T010000
END:DAYLIGHT
BEGIN:STANDARD
TZOFFSETFROM:+0200
TZOFFSETTO:+0100
TZNAME:CET
DTSTART:20271031T010000
END:STANDARD
END:VTIMEZONE
BEGIN:VEVENT
DTSTART;TZID=Europe/Amsterdam:20260422T090000
DTEND;TZID=Europe/Amsterdam:20260422T100000
DTSTAMP:20260421T194214
CREATED:20260305T154403Z
LAST-MODIFIED:20260305T160359Z
UID:5348-1776848400-1776852000@verloskundigen-maeva.nl
SUMMARY:Inloopspreekuur Scherpenzeel
DESCRIPTION:Wil je een keer extra langs komen om het hartje van je kindje te luisteren? Heb je een korte vraag? Kom gerust langs tijdens het inloopspreekuur in Scherpenzeel. \nJe bent van harte welkom tussen 9:00 – 10:00 uur in Scherpenzeel.
URL:https://verloskundigen-maeva.nl/evenement/inloopspreekuur-scherpenzeel-2/2026-04-22/
LOCATION:ELC het Foort\, Vijverlaan 4i\, Scherpenzeel\, 3925 EM\, Nederland
CATEGORIES:Inloopspreekuren
END:VEVENT
BEGIN:VEVENT
DTSTART;TZID=Europe/Amsterdam:20260429T090000
DTEND;TZID=Europe/Amsterdam:20260429T100000
DTSTAMP:20260421T194214
CREATED:20260305T154403Z
LAST-MODIFIED:20260305T160359Z
UID:5349-1777453200-1777456800@verloskundigen-maeva.nl
SUMMARY:Inloopspreekuur Scherpenzeel
DESCRIPTION:Wil je een keer extra langs komen om het hartje van je kindje te luisteren? Heb je een korte vraag? Kom gerust langs tijdens het inloopspreekuur in Scherpenzeel. \nJe bent van harte welkom tussen 9:00 – 10:00 uur in Scherpenzeel.
URL:https://verloskundigen-maeva.nl/evenement/inloopspreekuur-scherpenzeel-2/2026-04-29/
LOCATION:ELC het Foort\, Vijverlaan 4i\, Scherpenzeel\, 3925 EM\, Nederland
CATEGORIES:Inloopspreekuren
END:VEVENT
BEGIN:VEVENT
DTSTART;TZID=Europe/Amsterdam:20260506T090000
DTEND;TZID=Europe/Amsterdam:20260506T100000
DTSTAMP:20260421T194214
CREATED:20260305T154403Z
LAST-MODIFIED:20260305T160359Z
UID:5350-1778058000-1778061600@verloskundigen-maeva.nl
SUMMARY:Inloopspreekuur Scherpenzeel
DESCRIPTION:Wil je een keer extra langs komen om het hartje van je kindje te luisteren? Heb je een korte vraag? Kom gerust langs tijdens het inloopspreekuur in Scherpenzeel. \nJe bent van harte welkom tussen 9:00 – 10:00 uur in Scherpenzeel.
URL:https://verloskundigen-maeva.nl/evenement/inloopspreekuur-scherpenzeel-2/2026-05-06/
LOCATION:ELC het Foort\, Vijverlaan 4i\, Scherpenzeel\, 3925 EM\, Nederland
CATEGORIES:Inloopspreekuren
END:VEVENT
BEGIN:VEVENT
DTSTART;TZID=Europe/Amsterdam:20260513T090000
DTEND;TZID=Europe/Amsterdam:20260513T100000
DTSTAMP:20260421T194214
CREATED:20260305T154403Z
LAST-MODIFIED:20260305T160359Z
UID:5351-1778662800-1778666400@verloskundigen-maeva.nl
SUMMARY:Inloopspreekuur Scherpenzeel
DESCRIPTION:Wil je een keer extra langs komen om het hartje van je kindje te luisteren? Heb je een korte vraag? Kom gerust langs tijdens het inloopspreekuur in Scherpenzeel. \nJe bent van harte welkom tussen 9:00 – 10:00 uur in Scherpenzeel.
URL:https://verloskundigen-maeva.nl/evenement/inloopspreekuur-scherpenzeel-2/2026-05-13/
LOCATION:ELC het Foort\, Vijverlaan 4i\, Scherpenzeel\, 3925 EM\, Nederland
CATEGORIES:Inloopspreekuren
END:VEVENT
BEGIN:VEVENT
DTSTART;TZID=Europe/Amsterdam:20260520T090000
DTEND;TZID=Europe/Amsterdam:20260520T100000
DTSTAMP:20260421T194214
CREATED:20260305T154403Z
LAST-MODIFIED:20260305T160359Z
UID:5353-1779267600-1779271200@verloskundigen-maeva.nl
SUMMARY:Inloopspreekuur Scherpenzeel
DESCRIPTION:Wil je een keer extra langs komen om het hartje van je kindje te luisteren? Heb je een korte vraag? Kom gerust langs tijdens het inloopspreekuur in Scherpenzeel. \nJe bent van harte welkom tussen 9:00 – 10:00 uur in Scherpenzeel.
URL:https://verloskundigen-maeva.nl/evenement/inloopspreekuur-scherpenzeel-2/2026-05-20/
LOCATION:ELC het Foort\, Vijverlaan 4i\, Scherpenzeel\, 3925 EM\, Nederland
CATEGORIES:Inloopspreekuren
END:VEVENT
BEGIN:VEVENT
DTSTART;TZID=Europe/Amsterdam:20260527T090000
DTEND;TZID=Europe/Amsterdam:20260527T100000
DTSTAMP:20260421T194214
CREATED:20260305T154403Z
LAST-MODIFIED:20260305T160359Z
UID:5354-1779872400-1779876000@verloskundigen-maeva.nl
SUMMARY:Inloopspreekuur Scherpenzeel
DESCRIPTION:Wil je een keer extra langs komen om het hartje van je kindje te luisteren? Heb je een korte vraag? Kom gerust langs tijdens het inloopspreekuur in Scherpenzeel. \nJe bent van harte welkom tussen 9:00 – 10:00 uur in Scherpenzeel.
URL:https://verloskundigen-maeva.nl/evenement/inloopspreekuur-scherpenzeel-2/2026-05-27/
LOCATION:ELC het Foort\, Vijverlaan 4i\, Scherpenzeel\, 3925 EM\, Nederland
CATEGORIES:Inloopspreekuren
END:VEVENT
BEGIN:VEVENT
DTSTART;TZID=Europe/Amsterdam:20260603T090000
DTEND;TZID=Europe/Amsterdam:20260603T100000
DTSTAMP:20260421T194214
CREATED:20260305T154403Z
LAST-MODIFIED:20260305T160401Z
UID:5355-1780477200-1780480800@verloskundigen-maeva.nl
SUMMARY:Inloopspreekuur Scherpenzeel
DESCRIPTION:Wil je een keer extra langs komen om het hartje van je kindje te luisteren? Heb je een korte vraag? Kom gerust langs tijdens het inloopspreekuur in Scherpenzeel. \nJe bent van harte welkom tussen 9:00 – 10:00 uur in Scherpenzeel.
URL:https://verloskundigen-maeva.nl/evenement/inloopspreekuur-scherpenzeel-2/2026-06-03/
LOCATION:ELC het Foort\, Vijverlaan 4i\, Scherpenzeel\, 3925 EM\, Nederland
CATEGORIES:Inloopspreekuren
END:VEVENT
BEGIN:VEVENT
DTSTART;TZID=Europe/Amsterdam:20260610T090000
DTEND;TZID=Europe/Amsterdam:20260610T100000
DTSTAMP:20260421T194214
CREATED:20260305T154403Z
LAST-MODIFIED:20260305T160401Z
UID:5356-1781082000-1781085600@verloskundigen-maeva.nl
SUMMARY:Inloopspreekuur Scherpenzeel
DESCRIPTION:Wil je een keer extra langs komen om het hartje van je kindje te luisteren? Heb je een korte vraag? Kom gerust langs tijdens het inloopspreekuur in Scherpenzeel. \nJe bent van harte welkom tussen 9:00 – 10:00 uur in Scherpenzeel.
URL:https://verloskundigen-maeva.nl/evenement/inloopspreekuur-scherpenzeel-2/2026-06-10/
LOCATION:ELC het Foort\, Vijverlaan 4i\, Scherpenzeel\, 3925 EM\, Nederland
CATEGORIES:Inloopspreekuren
END:VEVENT
BEGIN:VEVENT
DTSTART;TZID=Europe/Amsterdam:20260617T090000
DTEND;TZID=Europe/Amsterdam:20260617T100000
DTSTAMP:20260421T194214
CREATED:20260305T154403Z
LAST-MODIFIED:20260305T160401Z
UID:5357-1781686800-1781690400@verloskundigen-maeva.nl
SUMMARY:Inloopspreekuur Scherpenzeel
DESCRIPTION:Wil je een keer extra langs komen om het hartje van je kindje te luisteren? Heb je een korte vraag? Kom gerust langs tijdens het inloopspreekuur in Scherpenzeel. \nJe bent van harte welkom tussen 9:00 – 10:00 uur in Scherpenzeel.
URL:https://verloskundigen-maeva.nl/evenement/inloopspreekuur-scherpenzeel-2/2026-06-17/
LOCATION:ELC het Foort\, Vijverlaan 4i\, Scherpenzeel\, 3925 EM\, Nederland
CATEGORIES:Inloopspreekuren
END:VEVENT
BEGIN:VEVENT
DTSTART;TZID=Europe/Amsterdam:20260624T090000
DTEND;TZID=Europe/Amsterdam:20260624T100000
DTSTAMP:20260421T194214
CREATED:20260305T154403Z
LAST-MODIFIED:20260305T160401Z
UID:5358-1782291600-1782295200@verloskundigen-maeva.nl
SUMMARY:Inloopspreekuur Scherpenzeel
DESCRIPTION:Wil je een keer extra langs komen om het hartje van je kindje te luisteren? Heb je een korte vraag? Kom gerust langs tijdens het inloopspreekuur in Scherpenzeel. \nJe bent van harte welkom tussen 9:00 – 10:00 uur in Scherpenzeel.
URL:https://verloskundigen-maeva.nl/evenement/inloopspreekuur-scherpenzeel-2/2026-06-24/
LOCATION:ELC het Foort\, Vijverlaan 4i\, Scherpenzeel\, 3925 EM\, Nederland
CATEGORIES:Inloopspreekuren
END:VEVENT
BEGIN:VEVENT
DTSTART;TZID=Europe/Amsterdam:20260701T090000
DTEND;TZID=Europe/Amsterdam:20260701T100000
DTSTAMP:20260421T194214
CREATED:20260305T154403Z
LAST-MODIFIED:20260305T160401Z
UID:5359-1782896400-1782900000@verloskundigen-maeva.nl
SUMMARY:Inloopspreekuur Scherpenzeel
DESCRIPTION:Wil je een keer extra langs komen om het hartje van je kindje te luisteren? Heb je een korte vraag? Kom gerust langs tijdens het inloopspreekuur in Scherpenzeel. \nJe bent van harte welkom tussen 9:00 – 10:00 uur in Scherpenzeel.
URL:https://verloskundigen-maeva.nl/evenement/inloopspreekuur-scherpenzeel-2/2026-07-01/
LOCATION:ELC het Foort\, Vijverlaan 4i\, Scherpenzeel\, 3925 EM\, Nederland
CATEGORIES:Inloopspreekuren
END:VEVENT
BEGIN:VEVENT
DTSTART;TZID=Europe/Amsterdam:20260708T090000
DTEND;TZID=Europe/Amsterdam:20260708T100000
DTSTAMP:20260421T194214
CREATED:20260305T154403Z
LAST-MODIFIED:20260305T160401Z
UID:5360-1783501200-1783504800@verloskundigen-maeva.nl
SUMMARY:Inloopspreekuur Scherpenzeel
DESCRIPTION:Wil je een keer extra langs komen om het hartje van je kindje te luisteren? Heb je een korte vraag? Kom gerust langs tijdens het inloopspreekuur in Scherpenzeel. \nJe bent van harte welkom tussen 9:00 – 10:00 uur in Scherpenzeel.
URL:https://verloskundigen-maeva.nl/evenement/inloopspreekuur-scherpenzeel-2/2026-07-08/
LOCATION:ELC het Foort\, Vijverlaan 4i\, Scherpenzeel\, 3925 EM\, Nederland
CATEGORIES:Inloopspreekuren
END:VEVENT
BEGIN:VEVENT
DTSTART;TZID=Europe/Amsterdam:20260715T090000
DTEND;TZID=Europe/Amsterdam:20260715T100000
DTSTAMP:20260421T194214
CREATED:20260305T154403Z
LAST-MODIFIED:20260305T160401Z
UID:5361-1784106000-1784109600@verloskundigen-maeva.nl
SUMMARY:Inloopspreekuur Scherpenzeel
DESCRIPTION:Wil je een keer extra langs komen om het hartje van je kindje te luisteren? Heb je een korte vraag? Kom gerust langs tijdens het inloopspreekuur in Scherpenzeel. \nJe bent van harte welkom tussen 9:00 – 10:00 uur in Scherpenzeel.
URL:https://verloskundigen-maeva.nl/evenement/inloopspreekuur-scherpenzeel-2/2026-07-15/
LOCATION:ELC het Foort\, Vijverlaan 4i\, Scherpenzeel\, 3925 EM\, Nederland
CATEGORIES:Inloopspreekuren
END:VEVENT
BEGIN:VEVENT
DTSTART;TZID=Europe/Amsterdam:20260722T090000
DTEND;TZID=Europe/Amsterdam:20260722T100000
DTSTAMP:20260421T194214
CREATED:20260305T154403Z
LAST-MODIFIED:20260305T160401Z
UID:5362-1784710800-1784714400@verloskundigen-maeva.nl
SUMMARY:Inloopspreekuur Scherpenzeel
DESCRIPTION:Wil je een keer extra langs komen om het hartje van je kindje te luisteren? Heb je een korte vraag? Kom gerust langs tijdens het inloopspreekuur in Scherpenzeel. \nJe bent van harte welkom tussen 9:00 – 10:00 uur in Scherpenzeel.
URL:https://verloskundigen-maeva.nl/evenement/inloopspreekuur-scherpenzeel-2/2026-07-22/
LOCATION:ELC het Foort\, Vijverlaan 4i\, Scherpenzeel\, 3925 EM\, Nederland
CATEGORIES:Inloopspreekuren
END:VEVENT
BEGIN:VEVENT
DTSTART;TZID=Europe/Amsterdam:20260729T090000
DTEND;TZID=Europe/Amsterdam:20260729T100000
DTSTAMP:20260421T194214
CREATED:20260305T154403Z
LAST-MODIFIED:20260305T160402Z
UID:5363-1785315600-1785319200@verloskundigen-maeva.nl
SUMMARY:Inloopspreekuur Scherpenzeel
DESCRIPTION:Wil je een keer extra langs komen om het hartje van je kindje te luisteren? Heb je een korte vraag? Kom gerust langs tijdens het inloopspreekuur in Scherpenzeel. \nJe bent van harte welkom tussen 9:00 – 10:00 uur in Scherpenzeel.
URL:https://verloskundigen-maeva.nl/evenement/inloopspreekuur-scherpenzeel-2/2026-07-29/
LOCATION:ELC het Foort\, Vijverlaan 4i\, Scherpenzeel\, 3925 EM\, Nederland
CATEGORIES:Inloopspreekuren
END:VEVENT
BEGIN:VEVENT
DTSTART;TZID=Europe/Amsterdam:20260805T090000
DTEND;TZID=Europe/Amsterdam:20260805T100000
DTSTAMP:20260421T194214
CREATED:20260305T154403Z
LAST-MODIFIED:20260305T160402Z
UID:5364-1785920400-1785924000@verloskundigen-maeva.nl
SUMMARY:Inloopspreekuur Scherpenzeel
DESCRIPTION:Wil je een keer extra langs komen om het hartje van je kindje te luisteren? Heb je een korte vraag? Kom gerust langs tijdens het inloopspreekuur in Scherpenzeel. \nJe bent van harte welkom tussen 9:00 – 10:00 uur in Scherpenzeel.
URL:https://verloskundigen-maeva.nl/evenement/inloopspreekuur-scherpenzeel-2/2026-08-05/
LOCATION:ELC het Foort\, Vijverlaan 4i\, Scherpenzeel\, 3925 EM\, Nederland
CATEGORIES:Inloopspreekuren
END:VEVENT
BEGIN:VEVENT
DTSTART;TZID=Europe/Amsterdam:20260812T090000
DTEND;TZID=Europe/Amsterdam:20260812T100000
DTSTAMP:20260421T194214
CREATED:20260305T154403Z
LAST-MODIFIED:20260305T160402Z
UID:5365-1786525200-1786528800@verloskundigen-maeva.nl
SUMMARY:Inloopspreekuur Scherpenzeel
DESCRIPTION:Wil je een keer extra langs komen om het hartje van je kindje te luisteren? Heb je een korte vraag? Kom gerust langs tijdens het inloopspreekuur in Scherpenzeel. \nJe bent van harte welkom tussen 9:00 – 10:00 uur in Scherpenzeel.
URL:https://verloskundigen-maeva.nl/evenement/inloopspreekuur-scherpenzeel-2/2026-08-12/
LOCATION:ELC het Foort\, Vijverlaan 4i\, Scherpenzeel\, 3925 EM\, Nederland
CATEGORIES:Inloopspreekuren
END:VEVENT
BEGIN:VEVENT
DTSTART;TZID=Europe/Amsterdam:20260819T090000
DTEND;TZID=Europe/Amsterdam:20260819T100000
DTSTAMP:20260421T194214
CREATED:20260305T154403Z
LAST-MODIFIED:20260305T160402Z
UID:5366-1787130000-1787133600@verloskundigen-maeva.nl
SUMMARY:Inloopspreekuur Scherpenzeel
DESCRIPTION:Wil je een keer extra langs komen om het hartje van je kindje te luisteren? Heb je een korte vraag? Kom gerust langs tijdens het inloopspreekuur in Scherpenzeel. \nJe bent van harte welkom tussen 9:00 – 10:00 uur in Scherpenzeel.
URL:https://verloskundigen-maeva.nl/evenement/inloopspreekuur-scherpenzeel-2/2026-08-19/
LOCATION:ELC het Foort\, Vijverlaan 4i\, Scherpenzeel\, 3925 EM\, Nederland
CATEGORIES:Inloopspreekuren
END:VEVENT
BEGIN:VEVENT
DTSTART;TZID=Europe/Amsterdam:20260826T090000
DTEND;TZID=Europe/Amsterdam:20260826T100000
DTSTAMP:20260421T194214
CREATED:20260305T154403Z
LAST-MODIFIED:20260305T160402Z
UID:5367-1787734800-1787738400@verloskundigen-maeva.nl
SUMMARY:Inloopspreekuur Scherpenzeel
DESCRIPTION:Wil je een keer extra langs komen om het hartje van je kindje te luisteren? Heb je een korte vraag? Kom gerust langs tijdens het inloopspreekuur in Scherpenzeel. \nJe bent van harte welkom tussen 9:00 – 10:00 uur in Scherpenzeel.
URL:https://verloskundigen-maeva.nl/evenement/inloopspreekuur-scherpenzeel-2/2026-08-26/
LOCATION:ELC het Foort\, Vijverlaan 4i\, Scherpenzeel\, 3925 EM\, Nederland
CATEGORIES:Inloopspreekuren
END:VEVENT
BEGIN:VEVENT
DTSTART;TZID=Europe/Amsterdam:20260902T090000
DTEND;TZID=Europe/Amsterdam:20260902T100000
DTSTAMP:20260421T194214
CREATED:20260305T154403Z
LAST-MODIFIED:20260305T160402Z
UID:5368-1788339600-1788343200@verloskundigen-maeva.nl
SUMMARY:Inloopspreekuur Scherpenzeel
DESCRIPTION:Wil je een keer extra langs komen om het hartje van je kindje te luisteren? Heb je een korte vraag? Kom gerust langs tijdens het inloopspreekuur in Scherpenzeel. \nJe bent van harte welkom tussen 9:00 – 10:00 uur in Scherpenzeel.
URL:https://verloskundigen-maeva.nl/evenement/inloopspreekuur-scherpenzeel-2/2026-09-02/
LOCATION:ELC het Foort\, Vijverlaan 4i\, Scherpenzeel\, 3925 EM\, Nederland
CATEGORIES:Inloopspreekuren
END:VEVENT
BEGIN:VEVENT
DTSTART;TZID=Europe/Amsterdam:20260909T090000
DTEND;TZID=Europe/Amsterdam:20260909T100000
DTSTAMP:20260421T194214
CREATED:20260305T154403Z
LAST-MODIFIED:20260305T160403Z
UID:5369-1788944400-1788948000@verloskundigen-maeva.nl
SUMMARY:Inloopspreekuur Scherpenzeel
DESCRIPTION:Wil je een keer extra langs komen om het hartje van je kindje te luisteren? Heb je een korte vraag? Kom gerust langs tijdens het inloopspreekuur in Scherpenzeel. \nJe bent van harte welkom tussen 9:00 – 10:00 uur in Scherpenzeel.
URL:https://verloskundigen-maeva.nl/evenement/inloopspreekuur-scherpenzeel-2/2026-09-09/
LOCATION:ELC het Foort\, Vijverlaan 4i\, Scherpenzeel\, 3925 EM\, Nederland
CATEGORIES:Inloopspreekuren
END:VEVENT
BEGIN:VEVENT
DTSTART;TZID=Europe/Amsterdam:20260916T090000
DTEND;TZID=Europe/Amsterdam:20260916T100000
DTSTAMP:20260421T194214
CREATED:20260305T154403Z
LAST-MODIFIED:20260305T160403Z
UID:5370-1789549200-1789552800@verloskundigen-maeva.nl
SUMMARY:Inloopspreekuur Scherpenzeel
DESCRIPTION:Wil je een keer extra langs komen om het hartje van je kindje te luisteren? Heb je een korte vraag? Kom gerust langs tijdens het inloopspreekuur in Scherpenzeel. \nJe bent van harte welkom tussen 9:00 – 10:00 uur in Scherpenzeel.
URL:https://verloskundigen-maeva.nl/evenement/inloopspreekuur-scherpenzeel-2/2026-09-16/
LOCATION:ELC het Foort\, Vijverlaan 4i\, Scherpenzeel\, 3925 EM\, Nederland
CATEGORIES:Inloopspreekuren
END:VEVENT
BEGIN:VEVENT
DTSTART;TZID=Europe/Amsterdam:20260923T090000
DTEND;TZID=Europe/Amsterdam:20260923T100000
DTSTAMP:20260421T194214
CREATED:20260305T154403Z
LAST-MODIFIED:20260305T160403Z
UID:5371-1790154000-1790157600@verloskundigen-maeva.nl
SUMMARY:Inloopspreekuur Scherpenzeel
DESCRIPTION:Wil je een keer extra langs komen om het hartje van je kindje te luisteren? Heb je een korte vraag? Kom gerust langs tijdens het inloopspreekuur in Scherpenzeel. \nJe bent van harte welkom tussen 9:00 – 10:00 uur in Scherpenzeel.
URL:https://verloskundigen-maeva.nl/evenement/inloopspreekuur-scherpenzeel-2/2026-09-23/
LOCATION:ELC het Foort\, Vijverlaan 4i\, Scherpenzeel\, 3925 EM\, Nederland
CATEGORIES:Inloopspreekuren
END:VEVENT
BEGIN:VEVENT
DTSTART;TZID=Europe/Amsterdam:20260930T090000
DTEND;TZID=Europe/Amsterdam:20260930T100000
DTSTAMP:20260421T194214
CREATED:20260305T154403Z
LAST-MODIFIED:20260305T160403Z
UID:5372-1790758800-1790762400@verloskundigen-maeva.nl
SUMMARY:Inloopspreekuur Scherpenzeel
DESCRIPTION:Wil je een keer extra langs komen om het hartje van je kindje te luisteren? Heb je een korte vraag? Kom gerust langs tijdens het inloopspreekuur in Scherpenzeel. \nJe bent van harte welkom tussen 9:00 – 10:00 uur in Scherpenzeel.
URL:https://verloskundigen-maeva.nl/evenement/inloopspreekuur-scherpenzeel-2/2026-09-30/
LOCATION:ELC het Foort\, Vijverlaan 4i\, Scherpenzeel\, 3925 EM\, Nederland
CATEGORIES:Inloopspreekuren
END:VEVENT
BEGIN:VEVENT
DTSTART;TZID=Europe/Amsterdam:20261007T090000
DTEND;TZID=Europe/Amsterdam:20261007T100000
DTSTAMP:20260421T194214
CREATED:20260305T154403Z
LAST-MODIFIED:20260305T160403Z
UID:5373-1791363600-1791367200@verloskundigen-maeva.nl
SUMMARY:Inloopspreekuur Scherpenzeel
DESCRIPTION:Wil je een keer extra langs komen om het hartje van je kindje te luisteren? Heb je een korte vraag? Kom gerust langs tijdens het inloopspreekuur in Scherpenzeel. \nJe bent van harte welkom tussen 9:00 – 10:00 uur in Scherpenzeel.
URL:https://verloskundigen-maeva.nl/evenement/inloopspreekuur-scherpenzeel-2/2026-10-07/
LOCATION:ELC het Foort\, Vijverlaan 4i\, Scherpenzeel\, 3925 EM\, Nederland
CATEGORIES:Inloopspreekuren
END:VEVENT
BEGIN:VEVENT
DTSTART;TZID=Europe/Amsterdam:20261014T090000
DTEND;TZID=Europe/Amsterdam:20261014T100000
DTSTAMP:20260421T194214
CREATED:20260305T154403Z
LAST-MODIFIED:20260305T160403Z
UID:5374-1791968400-1791972000@verloskundigen-maeva.nl
SUMMARY:Inloopspreekuur Scherpenzeel
DESCRIPTION:Wil je een keer extra langs komen om het hartje van je kindje te luisteren? Heb je een korte vraag? Kom gerust langs tijdens het inloopspreekuur in Scherpenzeel. \nJe bent van harte welkom tussen 9:00 – 10:00 uur in Scherpenzeel.
URL:https://verloskundigen-maeva.nl/evenement/inloopspreekuur-scherpenzeel-2/2026-10-14/
LOCATION:ELC het Foort\, Vijverlaan 4i\, Scherpenzeel\, 3925 EM\, Nederland
CATEGORIES:Inloopspreekuren
END:VEVENT
BEGIN:VEVENT
DTSTART;TZID=Europe/Amsterdam:20261021T090000
DTEND;TZID=Europe/Amsterdam:20261021T100000
DTSTAMP:20260421T194214
CREATED:20260305T154403Z
LAST-MODIFIED:20260305T160404Z
UID:5375-1792573200-1792576800@verloskundigen-maeva.nl
SUMMARY:Inloopspreekuur Scherpenzeel
DESCRIPTION:Wil je een keer extra langs komen om het hartje van je kindje te luisteren? Heb je een korte vraag? Kom gerust langs tijdens het inloopspreekuur in Scherpenzeel. \nJe bent van harte welkom tussen 9:00 – 10:00 uur in Scherpenzeel.
URL:https://verloskundigen-maeva.nl/evenement/inloopspreekuur-scherpenzeel-2/2026-10-21/
LOCATION:ELC het Foort\, Vijverlaan 4i\, Scherpenzeel\, 3925 EM\, Nederland
CATEGORIES:Inloopspreekuren
END:VEVENT
BEGIN:VEVENT
DTSTART;TZID=Europe/Amsterdam:20261028T090000
DTEND;TZID=Europe/Amsterdam:20261028T100000
DTSTAMP:20260421T194214
CREATED:20260305T154403Z
LAST-MODIFIED:20260305T160404Z
UID:5376-1793178000-1793181600@verloskundigen-maeva.nl
SUMMARY:Inloopspreekuur Scherpenzeel
DESCRIPTION:Wil je een keer extra langs komen om het hartje van je kindje te luisteren? Heb je een korte vraag? Kom gerust langs tijdens het inloopspreekuur in Scherpenzeel. \nJe bent van harte welkom tussen 9:00 – 10:00 uur in Scherpenzeel.
URL:https://verloskundigen-maeva.nl/evenement/inloopspreekuur-scherpenzeel-2/2026-10-28/
LOCATION:ELC het Foort\, Vijverlaan 4i\, Scherpenzeel\, 3925 EM\, Nederland
CATEGORIES:Inloopspreekuren
END:VEVENT
BEGIN:VEVENT
DTSTART;TZID=Europe/Amsterdam:20261104T090000
DTEND;TZID=Europe/Amsterdam:20261104T100000
DTSTAMP:20260421T194214
CREATED:20260305T154403Z
LAST-MODIFIED:20260305T160404Z
UID:5377-1793782800-1793786400@verloskundigen-maeva.nl
SUMMARY:Inloopspreekuur Scherpenzeel
DESCRIPTION:Wil je een keer extra langs komen om het hartje van je kindje te luisteren? Heb je een korte vraag? Kom gerust langs tijdens het inloopspreekuur in Scherpenzeel. \nJe bent van harte welkom tussen 9:00 – 10:00 uur in Scherpenzeel.
URL:https://verloskundigen-maeva.nl/evenement/inloopspreekuur-scherpenzeel-2/2026-11-04/
LOCATION:ELC het Foort\, Vijverlaan 4i\, Scherpenzeel\, 3925 EM\, Nederland
CATEGORIES:Inloopspreekuren
END:VEVENT
BEGIN:VEVENT
DTSTART;TZID=Europe/Amsterdam:20261111T090000
DTEND;TZID=Europe/Amsterdam:20261111T100000
DTSTAMP:20260421T194214
CREATED:20260305T154403Z
LAST-MODIFIED:20260305T160404Z
UID:5378-1794387600-1794391200@verloskundigen-maeva.nl
SUMMARY:Inloopspreekuur Scherpenzeel
DESCRIPTION:Wil je een keer extra langs komen om het hartje van je kindje te luisteren? Heb je een korte vraag? Kom gerust langs tijdens het inloopspreekuur in Scherpenzeel. \nJe bent van harte welkom tussen 9:00 – 10:00 uur in Scherpenzeel.
URL:https://verloskundigen-maeva.nl/evenement/inloopspreekuur-scherpenzeel-2/2026-11-11/
LOCATION:ELC het Foort\, Vijverlaan 4i\, Scherpenzeel\, 3925 EM\, Nederland
CATEGORIES:Inloopspreekuren
END:VEVENT
END:VCALENDAR